BEGIN:VCALENDAR
VERSION:2.0
CALSCALE:GREGORIAN
METHOD:PUBLISH
PRODID://WGSR//1416863
BEGIN:VEVENT
DTSTAMP:20260422T195830
VTIMEZONE:America/Chicago
DTSTART:20260511T210000Z
DTEND:20260512T000000Z
UID:1416863
SUMMARY:Central Bank Webster Groves Ribbon Cutting
LOCATION:Central Bank, 220 W. Lockwood Ave, Webster Groves, MO, 63119
DESCRIPTION:Central Bank Webster Groves Ribbon Cutting\n\n05/11/26 04:00 PM CST\n - 05/11/26 07:00 PM CST\Description:\nRibbon Cutting for Central Bank in Webster Groves \nCentral Bank\n220 W. Lockwood Ave\nWebster Groves MO 63119\Location:\nCentral Bank\n220 W. Lockwood Ave\nWebster Groves, MO 63119
X-ALT-DESC;FMTTYPE=text/html:Central Bank Webster Groves Ribbon Cutting<br /><br />05/11/26 04:00 PM CST - 05/11/26 07:00 PM CST<br />Description:<br />Ribbon Cutting for Central Bank in Webster Groves&nbsp;<br />
Central Bank<br />
220 W. Lockwood Ave<br />
Webster Groves MO 63119<br />Location:<br />Central Bank<br />220 W. Lockwood Ave<br />Webster Groves, MO 63119
PRIORITY:3
TRANSP:TRANSPARENT
BEGIN:VALARM
TRIGGER:-PT5M
ACTION:DISPLAY
DESCRIPTION:Reminder
END:VALARM
END:VEVENT
END:VCALENDAR
