BEGIN:VCALENDAR
VERSION:2.0
CALSCALE:GREGORIAN
METHOD:PUBLISH
PRODID://WGSR//1419180
BEGIN:VEVENT
DTSTAMP:20260422T200206
VTIMEZONE:America/Chicago
DTSTART:20260423T223000Z
DTEND:20260424T013000Z
UID:1419180
SUMMARY:Member Event: Selebre Kilti: Celebrating Haitian Culture
LOCATION:Clayton Plaza Hotel, 7750 Carondelet Ave., Clayton, MO, 63105
DESCRIPTION:Member Event: Selebre Kilti: Celebrating Haitian Culture\n\n04/23/26 05:30 PM CST\n - 04/23/26 08:30 PM CST\Description:\nMeds & Food for Kids presents Selebre Kilti, a festive evening to celebrate the vibrant Haitian culture and our generous supporters. Meds & Food for Kids, based in St. Louis and Haiti, saves lives and transforms futures by treating malnourished children and mothers, training farmers, and creating jobs. \Details:\nSelebre Kilti features Haitian-inspired performances, food, art, and more. \n\nTickets are $150 per person.\Location:\nClayton Plaza Hotel\n7750 Carondelet Ave.\nClayton, MO 63105
X-ALT-DESC;FMTTYPE=text/html:Member Event: Selebre Kilti: Celebrating Haitian Culture<br /><br />04/23/26 05:30 PM CST - 04/23/26 08:30 PM CST<br />Description:<br />Meds &amp; Food for Kids presents <a href="https://mfkhaiti.org/celebrate/">Selebre Kilti</a>, a festive evening to celebrate the vibrant Haitian culture and our generous supporters. Meds &amp; Food for Kids, based in St. Louis and Haiti, saves lives and transforms futures by treating malnourished children and mothers, training farmers, and creating jobs.&nbsp;<br />Details:<br />Selebre Kilti features Haitian-inspired performances, food, art, and more.&nbsp;<br />
<br />
Tickets are $150 per person.<br />Location:<br />Clayton Plaza Hotel<br />7750 Carondelet Ave.<br />Clayton, MO 63105
PRIORITY:3
TRANSP:TRANSPARENT
BEGIN:VALARM
TRIGGER:-PT5M
ACTION:DISPLAY
DESCRIPTION:Reminder
END:VALARM
END:VEVENT
END:VCALENDAR
