BEGIN:VCALENDAR
VERSION:2.0
CALSCALE:GREGORIAN
METHOD:PUBLISH
PRODID://WGSR//1427529
BEGIN:VEVENT
DTSTAMP:20260422T200134
VTIMEZONE:America/Chicago
DTSTART:20260425T003000Z
DTEND:20260504T023000Z
UID:1427529
SUMMARY:Member Event: TGWG Presents: Silent Sky by Lauren Gunderson
LOCATION:Theatre Guild of Webster Groves, 517 Theatre Lane, Webster Groves, MO, 63119
DESCRIPTION:Member Event: TGWG Presents: Silent Sky by Lauren Gunderson\n\n04/24/26 07:30 PM CST\n - 05/03/26 09:30 PM CST\Description:\nThe Theatre Guild of Webster Groves is thrilled to present Silent Sky by Lauren Gunderson\nDirected by Taylor Brill\n \nThe true story of 19th-century astronomer Henrietta Leavitt explores a woman’s place in society during a time of immense scientific discoveries, when women’s ideas were dismissed until men claimed credit for them. Social progress, like scientific progress, can be hard to see when one is trapped among earthly complications; Henrietta Leavitt and her female peers believe in both, and their dedication changed the way we understand both the heavens and Earth.\n\n\nLOCATION: 517 Theatre Lane, Saint Louis, MO 63119\nPERFORMANCE DATES: April 24-26, May 1-3, 2026\nEvening shows are at 7:30pm, Sunday matinees are at 2:00pm.\nTickets $18-20 available at www.webstergrovestheatreguild.com/tickets\n\Details:\nThe Theatre Guild of Webster Groves is thrilled to present Silent Sky by Lauren Gunderson\nDirected by Taylor Brill\n \nThe true story of 19th-century astronomer Henrietta Leavitt explores a woman’s place in society during a time of immense scientific discoveries, when women’s ideas were dismissed until men claimed credit for them. Social progress, like scientific progress, can be hard to see when one is trapped among earthly complications; Henrietta Leavitt and her female peers believe in both, and their dedication changed the way we understand both the heavens and Earth.\n\n\nLOCATION: 517 Theatre Lane, Saint Louis, MO 63119\nPERFORMANCE DATES: April 24-26, May 1-3, 2026\nEvening shows are at 7:30pm, Sunday matinees are at 2:00pm.\nTickets $18-20 available at www.webstergrovestheatreguild.com/tickets\n\Location:\nTheatre Guild of Webster Groves\n517 Theatre Lane\nWebster Groves, MO 63119
X-ALT-DESC;FMTTYPE=text/html:Member Event: TGWG Presents: Silent Sky by Lauren Gunderson<br /><br />04/24/26 07:30 PM CST - 05/03/26 09:30 PM CST<br />Description:<br /><p dir="ltr"><strong id="docs-internal-guid-a7495370-7fff-25fe-3fed-eb35f8a45130">The Theatre Guild of Webster Groves is thrilled to present <em>Silent Sky</em> by Lauren Gunderson<br />
Directed by Taylor Brill</strong><br />
&nbsp;</p>
<strong>The true story of 19th-century astronomer Henrietta Leavitt explores a woman&rsquo;s place in society during a time of immense scientific discoveries, when women&rsquo;s ideas were dismissed until men claimed credit for them. Social progress, like scientific progress, can be hard to see when one is trapped among earthly complications; Henrietta Leavitt and her female peers believe in both, and their dedication changed the way we understand both the heavens and Earth.</strong><br />
<br />
<meta charset="utf-8" />
<p dir="ltr"><strong id="docs-internal-guid-89c732a7-7fff-da8e-050c-4ede55ea6447">LOCATION: 517 Theatre Lane, Saint Louis, MO 63119<br />
PERFORMANCE DATES: April 24-26, May 1-3, 2026<br />
Evening shows are at 7:30pm, Sunday matinees are at 2:00pm.</strong><br />
<strong id="docs-internal-guid-89c732a7-7fff-da8e-050c-4ede55ea6447">Tickets $18-20 available at <a href="http://www.webstergrovestheatreguild.com/tickets">www.webstergrovestheatreguild.com/tickets</a></strong></p>
<br />Details:<br /><p dir="ltr"><strong id="docs-internal-guid-a7495370-7fff-25fe-3fed-eb35f8a45130">The Theatre Guild of Webster Groves is thrilled to present <em>Silent Sky</em> by Lauren Gunderson<br />
Directed by Taylor Brill</strong><br />
&nbsp;</p>
<strong>The true story of 19th-century astronomer Henrietta Leavitt explores a woman&rsquo;s place in society during a time of immense scientific discoveries, when women&rsquo;s ideas were dismissed until men claimed credit for them. Social progress, like scientific progress, can be hard to see when one is trapped among earthly complications; Henrietta Leavitt and her female peers believe in both, and their dedication changed the way we understand both the heavens and Earth.</strong><br />
<br />
<meta charset="utf-8" />
<p dir="ltr"><strong id="docs-internal-guid-89c732a7-7fff-da8e-050c-4ede55ea6447">LOCATION: 517 Theatre Lane, Saint Louis, MO 63119<br />
PERFORMANCE DATES: April 24-26, May 1-3, 2026<br />
Evening shows are at 7:30pm, Sunday matinees are at 2:00pm.</strong><br />
<strong id="docs-internal-guid-89c732a7-7fff-da8e-050c-4ede55ea6447">Tickets $18-20 available at <a href="http://www.webstergrovestheatreguild.com/tickets">www.webstergrovestheatreguild.com/tickets</a></strong></p>
<br />Location:<br />Theatre Guild of Webster Groves<br />517 Theatre Lane<br />Webster Groves, MO 63119
PRIORITY:3
TRANSP:TRANSPARENT
BEGIN:VALARM
TRIGGER:-PT5M
ACTION:DISPLAY
DESCRIPTION:Reminder
END:VALARM
END:VEVENT
END:VCALENDAR
